Package: scCB2 Version: 1.19.0 Command: /Library/Frameworks/R.framework/Resources/bin/R CMD build --keep-empty-dirs --no-resave-data scCB2 StartedAt: 2025-10-24 17:37:37 -0400 (Fri, 24 Oct 2025) EndedAt: 2025-10-24 17:39:16 -0400 (Fri, 24 Oct 2025) EllapsedTime: 99.1 seconds RetCode: 0 Status: OK PackageFile: scCB2_1.19.0.tar.gz PackageFileSize: 847.2 KiB