Package: scBubbletree Version: 1.11.0 Command: /home/biocbuild/R/R/bin/R CMD build --keep-empty-dirs --no-resave-data scBubbletree StartedAt: 2025-10-21 02:50:32 -0000 (Tue, 21 Oct 2025) EndedAt: 2025-10-21 02:58:04 -0000 (Tue, 21 Oct 2025) EllapsedTime: 452.5 seconds RetCode: 0 Status: OK PackageFile: scBubbletree_1.11.0.tar.gz PackageFileSize: 3.959 MiB