Package: scBubbletree Version: 1.11.0 Command: /home/biocbuild/bbs-3.22-bioc/R/bin/R CMD build --keep-empty-dirs --no-resave-data --md5 scBubbletree StartedAt: 2025-10-24 19:58:49 -0400 (Fri, 24 Oct 2025) EndedAt: 2025-10-24 20:03:56 -0400 (Fri, 24 Oct 2025) EllapsedTime: 307.3 seconds RetCode: 0 Status: OK PackageFile: scBubbletree_1.11.0.tar.gz PackageFileSize: 4.647 MiB