Package: scBubbletree Version: 1.11.0 Command: /Library/Frameworks/R.framework/Resources/bin/R CMD build --keep-empty-dirs --no-resave-data scBubbletree StartedAt: 2025-10-24 18:37:09 -0400 (Fri, 24 Oct 2025) EndedAt: 2025-10-24 18:43:29 -0400 (Fri, 24 Oct 2025) EllapsedTime: 380.6 seconds RetCode: 0 Status: OK PackageFile: scBubbletree_1.11.0.tar.gz PackageFileSize: 4.42 MiB