Package: scBubbletree Version: 1.11.0 Command: /Library/Frameworks/R.framework/Resources/bin/R CMD INSTALL scBubbletree StartedAt: 2025-10-24 15:09:00 -0400 (Fri, 24 Oct 2025) EndedAt: 2025-10-24 15:09:07 -0400 (Fri, 24 Oct 2025) EllapsedTime: 6.9 seconds RetCode: 0 Status: OK