Package: scBubbletree Version: 1.11.0 Command: /Library/Frameworks/R.framework/Resources/bin/R CMD build --keep-empty-dirs --no-resave-data scBubbletree StartedAt: 2025-10-24 17:37:31 -0400 (Fri, 24 Oct 2025) EndedAt: 2025-10-24 17:40:14 -0400 (Fri, 24 Oct 2025) EllapsedTime: 162.8 seconds RetCode: 0 Status: OK PackageFile: scBubbletree_1.11.0.tar.gz PackageFileSize: 4.419 MiB