Package: scBFA Version: 1.23.0 Command: /home/biocbuild/bbs-3.22-bioc/R/bin/R CMD INSTALL scBFA StartedAt: 2025-10-24 15:39:28 -0400 (Fri, 24 Oct 2025) EndedAt: 2025-10-24 15:40:12 -0400 (Fri, 24 Oct 2025) EllapsedTime: 44.5 seconds RetCode: 0 Status: OK