Package: scAnnotatR Version: 1.16.0 Command: /Library/Frameworks/R.framework/Resources/bin/R CMD build --keep-empty-dirs --no-resave-data scAnnotatR StartedAt: 2025-11-03 18:36:14 -0500 (Mon, 03 Nov 2025) EndedAt: 2025-11-03 18:46:58 -0500 (Mon, 03 Nov 2025) EllapsedTime: 643.9 seconds RetCode: 0 Status: OK PackageFile: scAnnotatR_1.16.0.tar.gz PackageFileSize: 582.4 KiB