Package: scAnnotatR Version: 1.16.0 Command: rm -rf scAnnotatR.buildbin-libdir && mkdir scAnnotatR.buildbin-libdir && /Users/biocbuild/BBS/utils/build-universal.sh scAnnotatR_1.16.0.tar.gz /Library/Frameworks/R.framework/Resources/bin/R scAnnotatR.buildbin-libdir StartedAt: 2025-11-04 02:01:54 -0500 (Tue, 04 Nov 2025) EndedAt: 2025-11-04 02:03:06 -0500 (Tue, 04 Nov 2025) EllapsedTime: 71.4 seconds RetCode: 0 Status: OK PackageFile: scAnnotatR_1.16.0.tgz PackageFileSize: 1.036 MiB