Package: scAnnotatR Version: 1.15.0 Command: /Library/Frameworks/R.framework/Resources/bin/R CMD INSTALL scAnnotatR StartedAt: 2025-10-24 15:14:44 -0400 (Fri, 24 Oct 2025) EndedAt: 2025-10-24 15:15:04 -0400 (Fri, 24 Oct 2025) EllapsedTime: 20.2 seconds RetCode: 0 Status: OK