Package: scAnnotatR Version: 1.15.0 Command: /Library/Frameworks/R.framework/Resources/bin/R CMD build --keep-empty-dirs --no-resave-data scAnnotatR StartedAt: 2025-10-24 17:36:55 -0400 (Fri, 24 Oct 2025) EndedAt: 2025-10-24 17:41:49 -0400 (Fri, 24 Oct 2025) EllapsedTime: 293.2 seconds RetCode: 0 Status: OK PackageFile: scAnnotatR_1.15.0.tar.gz PackageFileSize: 583.4 KiB