Package: scAnnotatR Version: 1.15.0 Command: rm -rf scAnnotatR.buildbin-libdir && mkdir scAnnotatR.buildbin-libdir && /Users/biocbuild/BBS/utils/build-universal.sh scAnnotatR_1.15.0.tar.gz /Library/Frameworks/R.framework/Resources/bin/R scAnnotatR.buildbin-libdir StartedAt: 2025-10-24 23:18:12 -0400 (Fri, 24 Oct 2025) EndedAt: 2025-10-24 23:18:34 -0400 (Fri, 24 Oct 2025) EllapsedTime: 21.4 seconds RetCode: 0 Status: OK PackageFile: scAnnotatR_1.15.0.tgz PackageFileSize: 1.038 MiB