Package: sarks Version: 1.22.0 Command: /home/biocbuild/bbs-3.22-bioc/R/bin/R CMD INSTALL sarks StartedAt: 2025-11-16 15:16:37 -0500 (Sun, 16 Nov 2025) EndedAt: 2025-11-16 15:16:48 -0500 (Sun, 16 Nov 2025) EllapsedTime: 10.6 seconds RetCode: 0 Status: OK