Package: sangerseqR Version: 1.45.0 Command: /home/biocbuild/bbs-3.22-bioc/R/bin/R CMD INSTALL sangerseqR StartedAt: 2025-10-24 16:01:42 -0400 (Fri, 24 Oct 2025) EndedAt: 2025-10-24 16:01:55 -0400 (Fri, 24 Oct 2025) EllapsedTime: 13.5 seconds RetCode: 0 Status: OK