Package: sangerseqR Version: 1.45.0 Command: /home/biocbuild/bbs-3.22-bioc/R/bin/R CMD build --keep-empty-dirs --no-resave-data --md5 sangerseqR StartedAt: 2025-10-24 19:55:40 -0400 (Fri, 24 Oct 2025) EndedAt: 2025-10-24 19:56:15 -0400 (Fri, 24 Oct 2025) EllapsedTime: 34.0 seconds RetCode: 0 Status: OK PackageFile: sangerseqR_1.45.0.tar.gz PackageFileSize: 2.848 MiB