Package: sangerseqR Version: 1.46.0 Command: /Library/Frameworks/R.framework/Resources/bin/R CMD INSTALL sangerseqR StartedAt: 2025-11-10 15:26:58 -0500 (Mon, 10 Nov 2025) EndedAt: 2025-11-10 15:27:04 -0500 (Mon, 10 Nov 2025) EllapsedTime: 5.2 seconds RetCode: 0 Status: OK