Package: sangerseqR Version: 1.46.0 Command: /Library/Frameworks/R.framework/Resources/bin/R CMD build --keep-empty-dirs --no-resave-data sangerseqR StartedAt: 2025-11-10 17:36:21 -0500 (Mon, 10 Nov 2025) EndedAt: 2025-11-10 17:36:35 -0500 (Mon, 10 Nov 2025) EllapsedTime: 14.2 seconds RetCode: 0 Status: OK PackageFile: sangerseqR_1.46.0.tar.gz PackageFileSize: 2.934 MiB