Package: sangerseqR Version: 1.46.0 Command: rm -rf sangerseqR.buildbin-libdir && mkdir sangerseqR.buildbin-libdir && /Users/biocbuild/BBS/utils/build-universal.sh sangerseqR_1.46.0.tar.gz /Library/Frameworks/R.framework/Resources/bin/R sangerseqR.buildbin-libdir StartedAt: 2025-11-10 23:34:59 -0500 (Mon, 10 Nov 2025) EndedAt: 2025-11-10 23:35:05 -0500 (Mon, 10 Nov 2025) EllapsedTime: 6.1 seconds RetCode: 0 Status: OK PackageFile: sangerseqR_1.46.0.tgz PackageFileSize: 3.186 MiB