Package: sangeranalyseR Version: 1.19.0 Command: /Library/Frameworks/R.framework/Resources/bin/R CMD INSTALL sangeranalyseR StartedAt: 2025-10-26 15:28:10 -0400 (Sun, 26 Oct 2025) EndedAt: 2025-10-26 15:28:13 -0400 (Sun, 26 Oct 2025) EllapsedTime: 3.1 seconds RetCode: 1 Status: ERROR