Package: sangeranalyseR Version: 1.19.0 Command: /Library/Frameworks/R.framework/Resources/bin/R CMD build --keep-empty-dirs --no-resave-data sangeranalyseR StartedAt: 2025-10-26 17:49:10 -0400 (Sun, 26 Oct 2025) EndedAt: 2025-10-26 17:49:13 -0400 (Sun, 26 Oct 2025) EllapsedTime: 3.0 seconds RetCode: 1 Status: ERROR PackageFile: None PackageFileSize: NA