Package: sampleClassifier Version: 1.33.0 Command: /home/biocbuild/R/R/bin/R CMD INSTALL sampleClassifier StartedAt: 2025-10-23 20:50:57 -0000 (Thu, 23 Oct 2025) EndedAt: 2025-10-23 20:51:19 -0000 (Thu, 23 Oct 2025) EllapsedTime: 22.2 seconds RetCode: 0 Status: OK