Package: sampleClassifier Version: 1.33.0 Command: /home/biocbuild/bbs-3.22-bioc/R/bin/R CMD check --install=check:sampleClassifier.install-out.txt --library=/home/biocbuild/bbs-3.22-bioc/R/site-library --timings sampleClassifier_1.33.0.tar.gz StartedAt: 2025-10-25 03:39:48 -0400 (Sat, 25 Oct 2025) EndedAt: 2025-10-25 03:45:40 -0400 (Sat, 25 Oct 2025) EllapsedTime: 351.4 seconds RetCode: 0 Status: OK CheckDir: sampleClassifier.Rcheck Warnings: 0