Package: sampleClassifier Version: 1.33.0 Command: /Library/Frameworks/R.framework/Resources/bin/R CMD INSTALL sampleClassifier StartedAt: 2025-10-27 15:24:01 -0400 (Mon, 27 Oct 2025) EndedAt: 2025-10-27 15:24:24 -0400 (Mon, 27 Oct 2025) EllapsedTime: 23.3 seconds RetCode: 0 Status: OK