Package: sampleClassifier Version: 1.34.0 Command: /Library/Frameworks/R.framework/Resources/bin/R CMD check --install=check:sampleClassifier.install-out.txt --library=/Library/Frameworks/R.framework/Resources/library --no-vignettes --timings sampleClassifier_1.34.0.tar.gz StartedAt: 2025-10-30 23:44:48 -0400 (Thu, 30 Oct 2025) EndedAt: 2025-10-30 23:49:00 -0400 (Thu, 30 Oct 2025) EllapsedTime: 252.2 seconds RetCode: 0 Status: OK CheckDir: sampleClassifier.Rcheck Warnings: 0