Package: sampleClassifier Version: 1.33.0 Command: /Library/Frameworks/R.framework/Resources/bin/R CMD INSTALL sampleClassifier StartedAt: 2025-10-26 15:15:48 -0400 (Sun, 26 Oct 2025) EndedAt: 2025-10-26 15:15:55 -0400 (Sun, 26 Oct 2025) EllapsedTime: 6.5 seconds RetCode: 0 Status: OK