Package: sampleClassifier Version: 1.33.0 Command: /Library/Frameworks/R.framework/Resources/bin/R CMD check --install=check:sampleClassifier.install-out.txt --library=/Library/Frameworks/R.framework/Resources/library --no-vignettes --timings sampleClassifier_1.33.0.tar.gz StartedAt: 2025-10-26 21:36:35 -0400 (Sun, 26 Oct 2025) EndedAt: 2025-10-26 21:38:00 -0400 (Sun, 26 Oct 2025) EllapsedTime: 85.0 seconds RetCode: 0 Status: OK CheckDir: sampleClassifier.Rcheck Warnings: 0