Package: sampleClassifier Version: 1.33.0 Command: /Library/Frameworks/R.framework/Resources/bin/R CMD build --keep-empty-dirs --no-resave-data sampleClassifier StartedAt: 2025-10-26 17:49:04 -0400 (Sun, 26 Oct 2025) EndedAt: 2025-10-26 17:49:57 -0400 (Sun, 26 Oct 2025) EllapsedTime: 52.6 seconds RetCode: 0 Status: OK PackageFile: sampleClassifier_1.33.0.tar.gz PackageFileSize: 238.8 KiB