Package: safe Version: 3.49.0 Command: /home/biocbuild/bbs-3.22-bioc/R/bin/R CMD build --keep-empty-dirs --no-resave-data --md5 safe StartedAt: 2025-10-24 19:55:24 -0400 (Fri, 24 Oct 2025) EndedAt: 2025-10-24 19:59:02 -0400 (Fri, 24 Oct 2025) EllapsedTime: 217.3 seconds RetCode: 0 Status: OK PackageFile: safe_3.49.0.tar.gz PackageFileSize: 715.2 KiB