Package: safe Version: 3.50.0 Command: /Library/Frameworks/R.framework/Resources/bin/R CMD INSTALL safe StartedAt: 2025-11-10 15:30:59 -0500 (Mon, 10 Nov 2025) EndedAt: 2025-11-10 15:31:05 -0500 (Mon, 10 Nov 2025) EllapsedTime: 6.3 seconds RetCode: 0 Status: OK