Package: safe Version: 3.50.0 Command: /Library/Frameworks/R.framework/Resources/bin/R CMD build --keep-empty-dirs --no-resave-data safe StartedAt: 2025-11-10 17:36:12 -0500 (Mon, 10 Nov 2025) EndedAt: 2025-11-10 17:38:12 -0500 (Mon, 10 Nov 2025) EllapsedTime: 119.4 seconds RetCode: 0 Status: OK PackageFile: safe_3.50.0.tar.gz PackageFileSize: 713.5 KiB