Package: safe Version: 3.50.0 Command: rm -rf safe.buildbin-libdir && mkdir safe.buildbin-libdir && /Users/biocbuild/BBS/utils/build-universal.sh safe_3.50.0.tar.gz /Library/Frameworks/R.framework/Resources/bin/R safe.buildbin-libdir StartedAt: 2025-11-10 23:34:57 -0500 (Mon, 10 Nov 2025) EndedAt: 2025-11-10 23:35:04 -0500 (Mon, 10 Nov 2025) EllapsedTime: 7.1 seconds RetCode: 0 Status: OK PackageFile: safe_3.50.0.tgz PackageFileSize: 900.3 KiB