Package: sSeq Version: 1.47.0 Command: /home/biocbuild/bbs-3.22-bioc/R/bin/R CMD INSTALL sSeq StartedAt: 2025-10-24 15:14:58 -0400 (Fri, 24 Oct 2025) EndedAt: 2025-10-24 15:15:08 -0400 (Fri, 24 Oct 2025) EllapsedTime: 9.7 seconds RetCode: 0 Status: OK