Package: sSeq Version: 1.48.0 Command: /Library/Frameworks/R.framework/Resources/bin/R CMD INSTALL sSeq StartedAt: 2025-11-03 15:11:20 -0500 (Mon, 03 Nov 2025) EndedAt: 2025-11-03 15:11:58 -0500 (Mon, 03 Nov 2025) EllapsedTime: 37.5 seconds RetCode: 0 Status: OK