Package: sSeq Version: 1.48.0 Command: /Library/Frameworks/R.framework/Resources/bin/R CMD build --keep-empty-dirs --no-resave-data sSeq StartedAt: 2025-11-03 18:58:59 -0500 (Mon, 03 Nov 2025) EndedAt: 2025-11-03 19:00:12 -0500 (Mon, 03 Nov 2025) EllapsedTime: 72.8 seconds RetCode: 0 Status: OK PackageFile: sSeq_1.48.0.tar.gz PackageFileSize: 4.201 MiB