Package: sSNAPPY Version: 1.13.0 Command: /home/biocbuild/bbs-3.22-bioc/R/bin/R CMD INSTALL sSNAPPY StartedAt: 2025-10-27 15:38:03 -0400 (Mon, 27 Oct 2025) EndedAt: 2025-10-27 15:38:35 -0400 (Mon, 27 Oct 2025) EllapsedTime: 31.9 seconds RetCode: 0 Status: OK