Package: sSNAPPY Version: 1.13.0 Command: /home/biocbuild/bbs-3.22-bioc/R/bin/R CMD build --keep-empty-dirs --no-resave-data --md5 sSNAPPY StartedAt: 2025-10-27 20:22:00 -0400 (Mon, 27 Oct 2025) EndedAt: 2025-10-27 20:30:33 -0400 (Mon, 27 Oct 2025) EllapsedTime: 512.8 seconds RetCode: 0 Status: OK PackageFile: sSNAPPY_1.13.0.tar.gz PackageFileSize: 4.022 MiB