Package: sRACIPE Version: 2.1.1 Command: /home/biocbuild/bbs-3.22-bioc/R/bin/R CMD INSTALL sRACIPE StartedAt: 2025-10-24 15:27:52 -0400 (Fri, 24 Oct 2025) EndedAt: 2025-10-24 15:28:46 -0400 (Fri, 24 Oct 2025) EllapsedTime: 53.5 seconds RetCode: 0 Status: OK