Package: runibic Version: 1.31.0 Command: /home/biocbuild/bbs-3.22-bioc/R/bin/R CMD build --keep-empty-dirs --no-resave-data --md5 runibic StartedAt: 2025-10-24 19:54:35 -0400 (Fri, 24 Oct 2025) EndedAt: 2025-10-24 19:55:15 -0400 (Fri, 24 Oct 2025) EllapsedTime: 40.0 seconds RetCode: 0 Status: OK PackageFile: runibic_1.31.0.tar.gz PackageFileSize: 45.98 KiB