Package: rtracklayer Version: 1.69.1 Command: /home/biocbuild/bbs-3.22-bioc/R/bin/R CMD build --keep-empty-dirs --no-resave-data --md5 rtracklayer StartedAt: 2025-10-27 19:46:03 -0400 (Mon, 27 Oct 2025) EndedAt: 2025-10-27 19:47:21 -0400 (Mon, 27 Oct 2025) EllapsedTime: 78.1 seconds RetCode: 0 Status: OK PackageFile: rtracklayer_1.69.1.tar.gz PackageFileSize: 3.906 MiB