Package: rsbml Version: 2.67.0 Command: /home/biocbuild/bbs-3.22-bioc/R/bin/R CMD INSTALL rsbml StartedAt: 2025-10-27 15:14:38 -0400 (Mon, 27 Oct 2025) EndedAt: 2025-10-27 15:14:53 -0400 (Mon, 27 Oct 2025) EllapsedTime: 15.0 seconds RetCode: 0 Status: OK