Package: rrvgo Version: 1.21.5 Command: /home/biocbuild/bbs-3.22-bioc/R/bin/R CMD INSTALL rrvgo StartedAt: 2025-10-24 15:51:49 -0400 (Fri, 24 Oct 2025) EndedAt: 2025-10-24 15:52:09 -0400 (Fri, 24 Oct 2025) EllapsedTime: 20.8 seconds RetCode: 0 Status: OK