Package: rpx Version: 2.17.0 Command: /home/biocbuild/bbs-3.22-bioc/R/bin/R CMD INSTALL rpx StartedAt: 2025-10-24 15:19:56 -0400 (Fri, 24 Oct 2025) EndedAt: 2025-10-24 15:20:03 -0400 (Fri, 24 Oct 2025) EllapsedTime: 7.0 seconds RetCode: 0 Status: OK