Package: rprimer Version: 1.13.0 Command: /home/biocbuild/bbs-3.22-bioc/R/bin/R CMD build --keep-empty-dirs --no-resave-data --md5 rprimer StartedAt: 2025-10-24 19:52:21 -0400 (Fri, 24 Oct 2025) EndedAt: 2025-10-24 19:53:24 -0400 (Fri, 24 Oct 2025) EllapsedTime: 63.1 seconds RetCode: 0 Status: OK PackageFile: rprimer_1.13.0.tar.gz PackageFileSize: 3.104 MiB