Package: rprimer Version: 1.14.0 Command: /Library/Frameworks/R.framework/Resources/bin/R CMD INSTALL rprimer StartedAt: 2025-11-10 15:08:49 -0500 (Mon, 10 Nov 2025) EndedAt: 2025-11-10 15:08:56 -0500 (Mon, 10 Nov 2025) EllapsedTime: 7.0 seconds RetCode: 0 Status: OK