Package: rprimer Version: 1.14.0 Command: /Library/Frameworks/R.framework/Resources/bin/R CMD build --keep-empty-dirs --no-resave-data rprimer StartedAt: 2025-11-10 17:34:47 -0500 (Mon, 10 Nov 2025) EndedAt: 2025-11-10 17:35:13 -0500 (Mon, 10 Nov 2025) EllapsedTime: 25.3 seconds RetCode: 0 Status: OK PackageFile: rprimer_1.14.0.tar.gz PackageFileSize: 3.282 MiB