Package: rprimer Version: 1.14.0 Command: rm -rf rprimer.buildbin-libdir && mkdir rprimer.buildbin-libdir && /Users/biocbuild/BBS/utils/build-universal.sh rprimer_1.14.0.tar.gz /Library/Frameworks/R.framework/Resources/bin/R rprimer.buildbin-libdir StartedAt: 2025-11-10 23:34:29 -0500 (Mon, 10 Nov 2025) EndedAt: 2025-11-10 23:34:37 -0500 (Mon, 10 Nov 2025) EllapsedTime: 8.2 seconds RetCode: 0 Status: OK PackageFile: rprimer_1.14.0.tgz PackageFileSize: 3.665 MiB