Package: ropls Version: 1.41.0 Command: /home/biocbuild/bbs-3.22-bioc/R/bin/R CMD INSTALL ropls StartedAt: 2025-10-27 15:23:47 -0400 (Mon, 27 Oct 2025) EndedAt: 2025-10-27 15:24:15 -0400 (Mon, 27 Oct 2025) EllapsedTime: 27.9 seconds RetCode: 0 Status: OK