Package: rols Version: 3.6.0 Command: /home/biocbuild/bbs-3.22-bioc/R/bin/R CMD INSTALL rols StartedAt: 2025-11-11 15:18:26 -0500 (Tue, 11 Nov 2025) EndedAt: 2025-11-11 15:18:32 -0500 (Tue, 11 Nov 2025) EllapsedTime: 6.4 seconds RetCode: 0 Status: OK