Package: rnaseqcomp Version: 1.40.0 Command: /home/biocbuild/bbs-3.22-bioc/R/bin/R CMD check --install=check:rnaseqcomp.install-out.txt --library=/home/biocbuild/bbs-3.22-bioc/R/site-library --timings rnaseqcomp_1.40.0.tar.gz StartedAt: 2025-10-30 09:45:56 -0400 (Thu, 30 Oct 2025) EndedAt: 2025-10-30 09:46:44 -0400 (Thu, 30 Oct 2025) EllapsedTime: 48.0 seconds RetCode: 0 Status: OK CheckDir: rnaseqcomp.Rcheck Warnings: 0