Package: rnaEditr Version: 1.20.0 Command: /Library/Frameworks/R.framework/Resources/bin/R CMD INSTALL rnaEditr StartedAt: 2025-10-29 21:43:42 -0400 (Wed, 29 Oct 2025) EndedAt: 2025-10-29 21:43:57 -0400 (Wed, 29 Oct 2025) EllapsedTime: 15.2 seconds RetCode: 0 Status: OK